BEGIN:VCALENDAR
VERSION:2.0
PRODID:-//Library Market//iCal Export//EN
BEGIN:VEVENT
SUMMARY:Stop Human Trafficking Study
UID:18995
DTSTAMP:20260420T100600Z
DTSTART:20260423T174500Z
DTEND:20260423T194500Z
LOCATION:Waukesha Public Library, 321 Wisconsin Ave, Waukesha, WI 53186, U
 nited States
ROOM: Program Room B
DESCRIPTION:Study issue of youth trafficking
URL:https://waukesha.librarycalendar.com/event/stop-human-trafficking-stud
 y-18995
END:VEVENT
END:VCALENDAR
