BEGIN:VCALENDAR
VERSION:2.0
PRODID:-//Library Market//iCal Export//EN
BEGIN:VEVENT
SUMMARY:Open Studio Time
UID:19645
DTSTAMP:20260424T040300Z
DTSTART:20260711T170000Z
DTEND:20260711T213000Z
LOCATION:Waukesha Public Library, 321 Wisconsin Ave, Waukesha, WI 53186, U
 nited States
ROOM: Studio 321
DESCRIPTION:
URL:https://waukesha.librarycalendar.com/event/open-studio-time-19645
END:VEVENT
END:VCALENDAR
