BEGIN:VCALENDAR
VERSION:2.0
PRODID:-//Library Market//iCal Export//EN
BEGIN:VEVENT
SUMMARY:Open Studio Time
UID:19646
DTSTAMP:20260423T161500Z
DTSTART:20260808T170000Z
DTEND:20260808T213000Z
LOCATION:Waukesha Public Library, 321 Wisconsin Ave, Waukesha, WI 53186, U
 nited States
ROOM: Studio 321
DESCRIPTION:
URL:https://waukesha.librarycalendar.com/event/open-studio-time-19646
END:VEVENT
END:VCALENDAR
